BEGIN:VCALENDAR
VERSION:2.0
PRODID:-//Squarespace Inc/Squarespace 6//v6//EN
BEGIN:VEVENT
UID:5d3e31839b519f000162d46c@squarespace.com
DTSTAMP:20190818T230236Z
DTSTART:20190914T010000Z
DTEND:20190914T020000Z
SUMMARY:swimnastics sessions (saturday 14th September)
GEO:-37.823176;145.046538
LOCATION:crossfit hawthorn east\, 9 Montrose St\, Hawthorn East VIC 3123\, 
 Hawthorn East\, Aust
END:VEVENT
END:VCALENDAR
