BEGIN:VCALENDAR
VERSION:2.0
PRODID:-//Squarespace Inc/Squarespace 6//v6//EN
BEGIN:VEVENT
UID:5cf44cd5b3ed2e0001112579@squarespace.com
DTSTAMP:20190602T222840Z
DTSTART:20190817T010000Z
DTEND:20190817T020000Z
SUMMARY:swimnastics sessions (saturday 17th august)
GEO:-37.823176;145.046538
LOCATION:crossfit hawthorn east\, 9 Montrose St\, Hawthorn East VIC 3123\, 
 Hawthorn East\, Aust
END:VEVENT
END:VCALENDAR
