BEGIN:VCALENDAR
VERSION:2.0
PRODID:-//Squarespace Inc/Squarespace 6//v6//EN
BEGIN:VEVENT
UID:5e6ea3f3186dd4593689ecc9@squarespace.com
DTSTAMP:20200315T215454Z
DTSTART:20200317T050000Z
DTEND:20200317T060000Z
SUMMARY:swimnastics 1:1 session (4pm on Tuesday 17th March)
GEO:-37.823796;145.081234
LOCATION:alta fitness\, 233 Canterbury Road\, Canterbury\, VIC\, 3126\, Aus
 tralia
END:VEVENT
END:VCALENDAR
