BEGIN:VCALENDAR
VERSION:2.0
PRODID:-//Squarespace Inc/Squarespace 6//v6//EN
BEGIN:VEVENT
UID:5cabc490652dea1f98d33e6c@squarespace.com
DTSTAMP:20190408T220725Z
DTSTART:20190518T010000Z
DTEND:20190518T020000Z
SUMMARY:swimnastics sessions (saturday 18th may)
GEO:-37.823176;145.046538
LOCATION:crossfit hawthorn east\, 9 Montrose St\, Hawthorn East VIC 3123\, 
 Hawthorn East\, Aust
END:VEVENT
END:VCALENDAR
