BEGIN:VCALENDAR
VERSION:2.0
PRODID:-//Squarespace Inc/Squarespace 6//v6//EN
BEGIN:VEVENT
UID:5e6ed1f991b9d045dda91ced@squarespace.com
DTSTAMP:20200318T092123Z
DTSTART:20200319T070000Z
DTEND:20200319T080000Z
SUMMARY:swimnastics 1:1 session (6pm on Thursday 19th March)
GEO:-37.823796;145.081234
LOCATION:alta fitness\, 233 Canterbury Road\, Canterbury\, VIC\, 3126\, Aus
 tralia
END:VEVENT
END:VCALENDAR
