BEGIN:VCALENDAR
VERSION:2.0
PRODID:-//Squarespace Inc/Squarespace 6//v6//EN
BEGIN:VEVENT
UID:5d59dfdf373aac0001781dfd@squarespace.com
DTSTAMP:20190916T012348Z
DTSTART:20191019T000000Z
DTEND:20191019T010000Z
SUMMARY:swimnastics sessions (saturday 19th October)
GEO:-37.823176;145.046538
LOCATION:crossfit hawthorn east\, 9 Montrose St\, Hawthorn East VIC 3123\, 
 Hawthorn East\, Aust
END:VEVENT
END:VCALENDAR
