BEGIN:VCALENDAR
VERSION:2.0
PRODID:-//Squarespace Inc/Squarespace 6//v6//EN
BEGIN:VEVENT
UID:5dfbf240fa0eb91d2b9acb44@squarespace.com
DTSTAMP:20200130T222557Z
DTSTART:20200201T003000Z
DTEND:20200201T013000Z
SUMMARY:swimnastics sessions (saturday 1st February)
GEO:-37.823176;145.046538
LOCATION:crossfit hawthorn east\, 9 Montrose St\, Hawthorn East VIC 3123\, 
 Hawthorn East\, Aust
END:VEVENT
END:VCALENDAR
