BEGIN:VCALENDAR
VERSION:2.0
PRODID:-//Squarespace Inc/Squarespace 6//v6//EN
BEGIN:VEVENT
UID:5ccea75aee6eb058345fb32a@squarespace.com
DTSTAMP:20190518T235109Z
DTSTART:20190601T010000Z
DTEND:20190601T020000Z
SUMMARY:swimnastics sessions (saturday 1st June)
GEO:-37.823176;145.046538
LOCATION:crossfit hawthorn east\, 9 Montrose St\, Hawthorn East VIC 3123\, 
 Hawthorn East\, Aust
END:VEVENT
END:VCALENDAR
