BEGIN:VCALENDAR
VERSION:2.0
PRODID:-//Squarespace Inc/Squarespace 6//v6//EN
BEGIN:VEVENT
UID:5e6dedad0f431516e18eb0c9@squarespace.com
DTSTAMP:20200321T074232Z
DTSTART:20200321T230000Z
DTEND:20200322T000000Z
SUMMARY:swimnastics 1:1 session (10:00am on Sunday 22nd March) 
GEO:-37.823796;145.081234
LOCATION:alta fitness\, 233 Canterbury Road\, Canterbury\, VIC\, 3126\, Aus
 tralia
END:VEVENT
END:VCALENDAR
