BEGIN:VCALENDAR
VERSION:2.0
PRODID:-//Squarespace Inc/Squarespace 6//v6//EN
BEGIN:VEVENT
UID:5d59e24c3433760001a435e1@squarespace.com
DTSTAMP:20191017T031211Z
DTSTART:20191123T000000Z
DTEND:20191123T010000Z
SUMMARY:swimnastics sessions (saturday 23rd November)
GEO:-37.823176;145.046538
LOCATION:crossfit hawthorn east\, 9 Montrose St\, Hawthorn East VIC 3123\, 
 Hawthorn East\, Aust
END:VEVENT
END:VCALENDAR
