BEGIN:VCALENDAR
VERSION:2.0
PRODID:-//Squarespace Inc/Squarespace 6//v6//EN
BEGIN:VEVENT
UID:5d3e2fffeed6280001ac3ee3@squarespace.com
DTSTAMP:20190728T233221Z
DTSTART:20190824T010000Z
DTEND:20190824T020000Z
SUMMARY:swimnastics sessions (saturday 24th august)
GEO:-37.823176;145.046538
LOCATION:crossfit hawthorn east\, 9 Montrose St\, Hawthorn East VIC 3123\, 
 Hawthorn East\, Aust
END:VEVENT
END:VCALENDAR
