BEGIN:VCALENDAR
VERSION:2.0
PRODID:-//Squarespace Inc/Squarespace 6//v6//EN
BEGIN:VEVENT
UID:5d351d2d7a6681000102a6c8@squarespace.com
DTSTAMP:20190722T022027Z
DTSTART:20190727T010000Z
DTEND:20190727T020000Z
SUMMARY:swimnastics sessions (Saturday 27th July)
GEO:-37.823176;145.046538
LOCATION:crossfit hawthorn east\, 9 Montrose St\, Hawthorn East VIC 3123\, 
 Hawthorn East\, Aust
END:VEVENT
END:VCALENDAR
