BEGIN:VCALENDAR
VERSION:2.0
PRODID:-//Squarespace Inc/Squarespace 6//v6//EN
BEGIN:VEVENT
UID:5cf44b6b02f03200014069d6@squarespace.com
DTSTAMP:20190602T222525Z
DTSTART:20190803T010000Z
DTEND:20190803T020000Z
SUMMARY:swimnastics sessions (saturday 3rd august)
GEO:-37.823176;145.046538
LOCATION:crossfit hawthorn east\, 9 Montrose St\, Hawthorn East VIC 3123\, 
 Hawthorn East\, Aust
END:VEVENT
END:VCALENDAR
