BEGIN:VCALENDAR
VERSION:2.0
PRODID:-//Squarespace Inc/Squarespace 6//v6//EN
BEGIN:VEVENT
UID:5dfbf910b15f23677f840b2a@squarespace.com
DTSTAMP:20200122T225703Z
DTSTART:20200106T020000Z
DTEND:20200106T030000Z
SUMMARY:BOOKED! swimnastics 1:1 sessions (Monday 6th January)
GEO:-37.823796;145.081234
LOCATION:alta fitness\, 233 Canterbury Road\, Canterbury\, VIC\, 3126\, Aus
 tralia
END:VEVENT
END:VCALENDAR
