BEGIN:VCALENDAR
VERSION:2.0
PRODID:-//Squarespace Inc/Squarespace 6//v6//EN
BEGIN:VEVENT
UID:5ce1f8a6b6e19700013fea19@squarespace.com
DTSTAMP:20190520T004955Z
DTSTART:20190706T010000Z
DTEND:20190706T020000Z
SUMMARY:swimnastics sessions (saturday 6th July)
GEO:-37.823176;145.046538
LOCATION:crossfit hawthorn east\, 9 Montrose St\, Hawthorn East VIC 3123\, 
 Hawthorn East\, Aust
END:VEVENT
END:VCALENDAR
