BEGIN:VCALENDAR
VERSION:2.0
PRODID:-//Squarespace Inc/Squarespace 6//v6//EN
BEGIN:VEVENT
UID:5d59dba5047a080001ae75a9@squarespace.com
DTSTAMP:20190818T232515Z
DTSTART:20191006T000000Z
DTEND:20191006T010000Z
SUMMARY:swimnastics sessions (sunday 6th October)
GEO:-37.823176;145.046538
LOCATION:crossfit hawthorn east\, 9 Montrose St\, Hawthorn East VIC 3123\, 
 Hawthorn East\, Aust
END:VEVENT
END:VCALENDAR
