BEGIN:VCALENDAR
VERSION:2.0
PRODID:-//Squarespace Inc/Squarespace 6//v6//EN
BEGIN:VEVENT
UID:5d59e44bfbeeb0000196ece7@squarespace.com
DTSTAMP:20190916T013004Z
DTSTART:20191207T000000Z
DTEND:20191207T010000Z
SUMMARY:swimnastics sessions (saturday 7th December)
GEO:-37.823176;145.046538
LOCATION:crossfit hawthorn east\, 9 Montrose St\, Hawthorn East VIC 3123\, 
 Hawthorn East\, Aust
END:VEVENT
END:VCALENDAR
