BEGIN:VCALENDAR
VERSION:2.0
PRODID:-//Squarespace Inc/Squarespace 6//v6//EN
BEGIN:VEVENT
UID:5d3e31166a6913000113f368@squarespace.com
DTSTAMP:20190728T233635Z
DTSTART:20190907T010000Z
DTEND:20190907T020000Z
SUMMARY:swimnastics sessions (saturday 7th September)
GEO:-37.823176;145.046538
LOCATION:crossfit hawthorn east\, 9 Montrose St\, Hawthorn East VIC 3123\, 
 Hawthorn East\, Aust
END:VEVENT
END:VCALENDAR
