BEGIN:VCALENDAR
VERSION:2.0
PRODID:-//Squarespace Inc/Squarespace 6//v6//EN
BEGIN:VEVENT
UID:5dfbf1f77abced65d8aa3367@squarespace.com
DTSTAMP:20191219T215709Z
DTSTART:20200208T000000Z
DTEND:20200208T010000Z
SUMMARY:swimnastics sessions (saturday 8th February)
GEO:-37.823176;145.046538
LOCATION:crossfit hawthorn east\, 9 Montrose St\, Hawthorn East VIC 3123\, 
 Hawthorn East\, Aust
END:VEVENT
END:VCALENDAR
