BEGIN:VCALENDAR
VERSION:2.0
PRODID:-//Squarespace Inc/Squarespace 6//v6//EN
BEGIN:VEVENT
UID:5cabbe77f9619a3afbf7c328@squarespace.com
DTSTAMP:20190408T220030Z
DTSTART:20190504T010000Z
DTEND:20190504T020000Z
SUMMARY:swimnastics sessions (saturday 4th may)
GEO:-37.823176;145.046538
LOCATION:crossfit hawthorn east\, 9 Montrose St\, Hawthorn East VIC 3123\, 
 Hawthorn East\, Aust
END:VEVENT
END:VCALENDAR
