BEGIN:VCALENDAR
VERSION:2.0
PRODID:-//Squarespace Inc/Squarespace 6//v6//EN
BEGIN:VEVENT
UID:5ed70c5c64c5f507e2ebe996@squarespace.com
DTSTAMP:20200603T025047Z
DTSTART:20200619T230000Z
DTEND:20200620T000000Z
SUMMARY:ZOOM SWIMNASTICS PARTY (9.00am on Saturday 20th June)
END:VEVENT
END:VCALENDAR
