BEGIN:VCALENDAR
VERSION:2.0
PRODID:-//Squarespace Inc/Squarespace 6//v6//EN
BEGIN:VEVENT
UID:5f852bfc8274f45959e48560@squarespace.com
DTSTAMP:20201013T042446Z
DTSTART:20201210T063000Z
DTEND:20201210T073000Z
SUMMARY:Zoom swimnastics session (5.30pm on Thursday 10th December)
END:VEVENT
END:VCALENDAR
