BEGIN:VCALENDAR
VERSION:2.0
PRODID:-//Squarespace Inc/Squarespace 6//v6//EN
BEGIN:VEVENT
UID:601caf6e7f418e55b1465591@squarespace.com
DTSTAMP:20210206T212930Z
DTSTART:20210210T063000Z
DTEND:20210210T073000Z
SUMMARY:Zoom swimnastics session (5.30pm on Wednesday 10th February)
END:VEVENT
END:VCALENDAR
