BEGIN:VCALENDAR
VERSION:2.0
PRODID:-//Squarespace Inc/Squarespace 6//v6//EN
BEGIN:VEVENT
UID:5f8525232bdf833c41b76867@squarespace.com
DTSTAMP:20201013T035533Z
DTSTART:20201110T063000Z
DTEND:20201110T073000Z
SUMMARY:Zoom swimnastics session (5.30pm on Tuesday 10th November)
END:VEVENT
END:VCALENDAR
