BEGIN:VCALENDAR
VERSION:2.0
PRODID:-//Squarespace Inc/Squarespace 6//v6//EN
BEGIN:VEVENT
UID:5f309d8d0c19916a427ff93e@squarespace.com
DTSTAMP:20200810T010634Z
DTSTART:20200910T073000Z
DTEND:20200910T083000Z
SUMMARY:Zoom swimnastics session (5.30pm on Thursday 10th September)
END:VEVENT
END:VCALENDAR
