BEGIN:VCALENDAR
VERSION:2.0
PRODID:-//Squarespace Inc/Squarespace 6//v6//EN
BEGIN:VEVENT
UID:601cb3bdcbd7bc3255a8d662@squarespace.com
DTSTAMP:20210206T213107Z
DTSTART:20210211T063000Z
DTEND:20210211T073000Z
SUMMARY:Zoom swimnastics session (5.30pm on Thursday 11th February) 
END:VEVENT
END:VCALENDAR
