BEGIN:VCALENDAR
VERSION:2.0
PRODID:-//Squarespace Inc/Squarespace 6//v6//EN
BEGIN:VEVENT
UID:5e7d973a63d7965a884b63ab@squarespace.com
DTSTAMP:20200327T063012Z
DTSTART:20200410T230000Z
DTEND:20200411T000000Z
SUMMARY:Zoom swimnastics session (9.00am on Saturday 11th April)
END:VEVENT
END:VCALENDAR
