BEGIN:VCALENDAR
VERSION:2.0
PRODID:-//Squarespace Inc/Squarespace 6//v6//EN
BEGIN:VEVENT
UID:5ef14f669723f531490ae114@squarespace.com
DTSTAMP:20200703T083015Z
DTSTART:20200710T230000Z
DTEND:20200711T000000Z
SUMMARY:Zoom swimnastics session (9.00am on Saturday 11th July) 
END:VEVENT
END:VCALENDAR
