BEGIN:VCALENDAR
VERSION:2.0
PRODID:-//Squarespace Inc/Squarespace 6//v6//EN
BEGIN:VEVENT
UID:5eaf80b346855d7e4cb0082c@squarespace.com
DTSTAMP:20200504T024124Z
DTSTART:20200511T073000Z
DTEND:20200511T083000Z
SUMMARY:Zoom swimnastics session (5.30pm on Monday 11th May)
END:VEVENT
END:VCALENDAR
