BEGIN:VCALENDAR
VERSION:2.0
PRODID:-//Squarespace Inc/Squarespace 6//v6//EN
BEGIN:VEVENT
UID:5fd9303787ec9206694477db@squarespace.com
DTSTAMP:20210108T020813Z
DTSTART:20210111T213000Z
DTEND:20210111T223000Z
SUMMARY:Zoom swimnastics session (8.30am on Tuesday 12th January)
END:VEVENT
END:VCALENDAR
