BEGIN:VCALENDAR
VERSION:2.0
PRODID:-//Squarespace Inc/Squarespace 6//v6//EN
BEGIN:VEVENT
UID:5f5ef45bd871bb4ffc59452b@squarespace.com
DTSTAMP:20200914T044111Z
DTSTART:20201012T063000Z
DTEND:20201012T073000Z
SUMMARY:Zoom swimnastics session (5.30pm on Monday 12th October) 
END:VEVENT
END:VCALENDAR
