BEGIN:VCALENDAR
VERSION:2.0
PRODID:-//Squarespace Inc/Squarespace 6//v6//EN
BEGIN:VEVENT
UID:5eaf820c120a192621c4388e@squarespace.com
DTSTAMP:20200504T024709Z
DTSTART:20200512T073000Z
DTEND:20200512T083000Z
SUMMARY:Zoom swimnastics session (5.30pm on Tuesday 12th May)
END:VEVENT
END:VCALENDAR
