BEGIN:VCALENDAR
VERSION:2.0
PRODID:-//Squarespace Inc/Squarespace 6//v6//EN
BEGIN:VEVENT
UID:5ef96d622801f1255c1c6a8b@squarespace.com
DTSTAMP:20200703T083023Z
DTSTART:20200713T073000Z
DTEND:20200713T083000Z
SUMMARY:Zoom swimnastics session (5.30pm on Monday 13th July)
END:VEVENT
END:VCALENDAR
