BEGIN:VCALENDAR
VERSION:2.0
PRODID:-//Squarespace Inc/Squarespace 6//v6//EN
BEGIN:VEVENT
UID:5f5ef46fcaafb27f44f7dd95@squarespace.com
DTSTAMP:20200914T044131Z
DTSTART:20201013T063000Z
DTEND:20201013T073000Z
SUMMARY:Zoom swimnastics session (5.30pm on Tuesday 13th October)
END:VEVENT
END:VCALENDAR
