BEGIN:VCALENDAR
VERSION:2.0
PRODID:-//Squarespace Inc/Squarespace 6//v6//EN
BEGIN:VEVENT
UID:5ed70a49f421fc43f1b93620@squarespace.com
DTSTAMP:20200603T022730Z
DTSTART:20200612T230000Z
DTEND:20200613T000000Z
SUMMARY:Zoom swimnastics session (9.00am on Saturday 13th June)
END:VEVENT
END:VCALENDAR
