BEGIN:VCALENDAR
VERSION:2.0
PRODID:-//Squarespace Inc/Squarespace 6//v6//EN
BEGIN:VEVENT
UID:5eaf823446855d7e4cb0430c@squarespace.com
DTSTAMP:20200504T024816Z
DTSTART:20200513T073000Z
DTEND:20200513T083000Z
SUMMARY:Zoom swimnastics session (5.30pm on Wednesday 13th May)
END:VEVENT
END:VCALENDAR
