BEGIN:VCALENDAR
VERSION:2.0
PRODID:-//Squarespace Inc/Squarespace 6//v6//EN
BEGIN:VEVENT
UID:5f852c83ed7b405b145af86f@squarespace.com
DTSTAMP:20201013T042655Z
DTSTART:20201214T063000Z
DTEND:20201214T073000Z
SUMMARY:Zoom swimnastics session (5.30pm on Monday 14th December)
END:VEVENT
END:VCALENDAR
