BEGIN:VCALENDAR
VERSION:2.0
PRODID:-//Squarespace Inc/Squarespace 6//v6//EN
BEGIN:VEVENT
UID:5f309dc705889f0bcc7d6159@squarespace.com
DTSTAMP:20200810T010733Z
DTSTART:20200914T073000Z
DTEND:20200914T083000Z
SUMMARY:Zoom swimnastics session (5.30pm on Monday 14th September)
END:VEVENT
END:VCALENDAR
