BEGIN:VCALENDAR
VERSION:2.0
PRODID:-//Squarespace Inc/Squarespace 6//v6//EN
BEGIN:VEVENT
UID:5f03ef418e53972d0471d9b6@squarespace.com
DTSTAMP:20200707T034315Z
DTSTART:20200714T073000Z
DTEND:20200714T083000Z
SUMMARY:Zoom swimnastics session (5.30pm on Tuesday 14th July)
END:VEVENT
END:VCALENDAR
