BEGIN:VCALENDAR
VERSION:2.0
PRODID:-//Squarespace Inc/Squarespace 6//v6//EN
BEGIN:VEVENT
UID:5eaf82da4f6a4120981b7925@squarespace.com
DTSTAMP:20200504T025200Z
DTSTART:20200514T073000Z
DTEND:20200514T083000Z
SUMMARY:Zoom swimnastics session (5.30pm on Thursday 14th May)
END:VEVENT
END:VCALENDAR
