BEGIN:VCALENDAR
VERSION:2.0
PRODID:-//Squarespace Inc/Squarespace 6//v6//EN
BEGIN:VEVENT
UID:5fcdca06c00f007cea08cd5b@squarespace.com
DTSTAMP:20201207T062227Z
DTSTART:20201228T063000Z
DTEND:20201228T073000Z
SUMMARY:Zoom swimnastics session (5.30pm on Monday 28th December)
END:VEVENT
END:VCALENDAR
