BEGIN:VCALENDAR
VERSION:2.0
PRODID:-//Squarespace Inc/Squarespace 6//v6//EN
BEGIN:VEVENT
UID:5f852c9e05d1651cc165a2db@squarespace.com
DTSTAMP:20201013T042722Z
DTSTART:20201215T063000Z
DTEND:20201215T073000Z
SUMMARY:Zoom swimnastics session (5.30pm on Tuesday 15th December)
END:VEVENT
END:VCALENDAR
