BEGIN:VCALENDAR
VERSION:2.0
PRODID:-//Squarespace Inc/Squarespace 6//v6//EN
BEGIN:VEVENT
UID:6027311b832b215644578fb3@squarespace.com
DTSTAMP:20210213T015407Z
DTSTART:20210215T055000Z
DTEND:20210215T065000Z
SUMMARY:Zoom swimnastics session (4.50pm on Monday 15th February)
END:VEVENT
END:VCALENDAR
