BEGIN:VCALENDAR
VERSION:2.0
PRODID:-//Squarespace Inc/Squarespace 6//v6//EN
BEGIN:VEVENT
UID:5ed70ad0238c6011ad08da68@squarespace.com
DTSTAMP:20200603T022850Z
DTSTART:20200615T073000Z
DTEND:20200615T083000Z
SUMMARY:Zoom swimnastics session (5.30pm on Monday 15th June) 
END:VEVENT
END:VCALENDAR
