BEGIN:VCALENDAR
VERSION:2.0
PRODID:-//Squarespace Inc/Squarespace 6//v6//EN
BEGIN:VEVENT
UID:5f5ef4a0a6a3fc6ccb25210b@squarespace.com
DTSTAMP:20200914T044223Z
DTSTART:20201015T063000Z
DTEND:20201015T073000Z
SUMMARY:Zoom swimnastics session (5.30pm on Thursday 15th October)
END:VEVENT
END:VCALENDAR
