BEGIN:VCALENDAR
VERSION:2.0
PRODID:-//Squarespace Inc/Squarespace 6//v6//EN
BEGIN:VEVENT
UID:5f309dff9c22550d4dcd9205@squarespace.com
DTSTAMP:20200810T010828Z
DTSTART:20200915T073000Z
DTEND:20200915T083000Z
SUMMARY:Zoom swimnastics session (5.30pm on Tuesday 15th September)
END:VEVENT
END:VCALENDAR
