BEGIN:VCALENDAR
VERSION:2.0
PRODID:-//Squarespace Inc/Squarespace 6//v6//EN
BEGIN:VEVENT
UID:5e86974ee459ab19a04d431b@squarespace.com
DTSTAMP:20200403T015445Z
DTSTART:20200415T073000Z
DTEND:20200415T083000Z
SUMMARY:Zoom swimnastics session (5.30pm on Wednesday 15th April)
END:VEVENT
END:VCALENDAR
