BEGIN:VCALENDAR
VERSION:2.0
PRODID:-//Squarespace Inc/Squarespace 6//v6//EN
BEGIN:VEVENT
UID:600f445b6bc9b8774fe37e30@squarespace.com
DTSTAMP:20210206T213032Z
DTSTART:20210216T070000Z
DTEND:20210216T080000Z
SUMMARY:Zoom swimnastics session (6.00pm on Tuesday 16th February)
END:VEVENT
END:VCALENDAR
