BEGIN:VCALENDAR
VERSION:2.0
PRODID:-//Squarespace Inc/Squarespace 6//v6//EN
BEGIN:VEVENT
UID:5f8525f75179eb1e3d17637b@squarespace.com
DTSTAMP:20201013T035900Z
DTSTART:20201116T063000Z
DTEND:20201116T073000Z
SUMMARY:Zoom swimnastics session (5.30pm on Monday 16th November) 
END:VEVENT
END:VCALENDAR
