BEGIN:VCALENDAR
VERSION:2.0
PRODID:-//Squarespace Inc/Squarespace 6//v6//EN
BEGIN:VEVENT
UID:5e8d1433790e8560fac7b568@squarespace.com
DTSTAMP:20200408T000109Z
DTSTART:20200423T073000Z
DTEND:20200423T083000Z
SUMMARY:Zoom swimnastics session (5.30pm on Thursday 23rd April)
END:VEVENT
END:VCALENDAR
